BEGIN:VCALENDAR
VERSION:2.0
PRODID:-//Emerald Bridge Club - ECPv6.15.20//NONSGML v1.0//EN
CALSCALE:GREGORIAN
METHOD:PUBLISH
X-WR-CALNAME:Emerald Bridge Club
X-ORIGINAL-URL:https://emeraldbridgeclub.net
X-WR-CALDESC:Events for Emerald Bridge Club
REFRESH-INTERVAL;VALUE=DURATION:PT1H
X-Robots-Tag:noindex
X-PUBLISHED-TTL:PT1H
BEGIN:VTIMEZONE
TZID:America/Los_Angeles
BEGIN:DAYLIGHT
TZOFFSETFROM:-0800
TZOFFSETTO:-0700
TZNAME:PDT
DTSTART:20220313T100000
END:DAYLIGHT
BEGIN:STANDARD
TZOFFSETFROM:-0700
TZOFFSETTO:-0800
TZNAME:PST
DTSTART:20221106T090000
END:STANDARD
BEGIN:DAYLIGHT
TZOFFSETFROM:-0800
TZOFFSETTO:-0700
TZNAME:PDT
DTSTART:20230312T100000
END:DAYLIGHT
BEGIN:STANDARD
TZOFFSETFROM:-0700
TZOFFSETTO:-0800
TZNAME:PST
DTSTART:20231105T090000
END:STANDARD
BEGIN:DAYLIGHT
TZOFFSETFROM:-0800
TZOFFSETTO:-0700
TZNAME:PDT
DTSTART:20240310T100000
END:DAYLIGHT
BEGIN:STANDARD
TZOFFSETFROM:-0700
TZOFFSETTO:-0800
TZNAME:PST
DTSTART:20241103T090000
END:STANDARD
BEGIN:DAYLIGHT
TZOFFSETFROM:-0800
TZOFFSETTO:-0700
TZNAME:PDT
DTSTART:20250309T100000
END:DAYLIGHT
BEGIN:STANDARD
TZOFFSETFROM:-0700
TZOFFSETTO:-0800
TZNAME:PST
DTSTART:20251102T090000
END:STANDARD
BEGIN:DAYLIGHT
TZOFFSETFROM:-0800
TZOFFSETTO:-0700
TZNAME:PDT
DTSTART:20260308T100000
END:DAYLIGHT
BEGIN:STANDARD
TZOFFSETFROM:-0700
TZOFFSETTO:-0800
TZNAME:PST
DTSTART:20261101T090000
END:STANDARD
BEGIN:DAYLIGHT
TZOFFSETFROM:-0800
TZOFFSETTO:-0700
TZNAME:PDT
DTSTART:20270314T100000
END:DAYLIGHT
BEGIN:STANDARD
TZOFFSETFROM:-0700
TZOFFSETTO:-0800
TZNAME:PST
DTSTART:20271107T090000
END:STANDARD
END:VTIMEZONE
BEGIN:VEVENT
DTSTART;VALUE=DATE:20260410
DTEND;VALUE=DATE:20260412
DTSTAMP:20260423T034411
CREATED:20260112T184335Z
LAST-MODIFIED:20260112T184834Z
UID:8817-1775779200-1775951999@emeraldbridgeclub.net
SUMMARY:Eugene I/N Sectional
DESCRIPTION:
URL:https://emeraldbridgeclub.net/event/eugene-i-n-sectional-4/
CATEGORIES:Nearby Tournament,Regional Game,Sectional Game,Tournament
ATTACH;FMTTYPE=image/jpeg:https://emeraldbridgeclub.net/wp-content/uploads/2022/04/Eugene-aerial.jpeg
END:VEVENT
BEGIN:VEVENT
DTSTART;VALUE=DATE:20260402
DTEND;VALUE=DATE:20260405
DTSTAMP:20260423T034411
CREATED:20260112T183327Z
LAST-MODIFIED:20260112T183327Z
UID:8806-1775088000-1775347199@emeraldbridgeclub.net
SUMMARY:Rogue Valley Sectional\, Medford
DESCRIPTION:
URL:https://emeraldbridgeclub.net/event/rogue-valley-sectional-medford/
CATEGORIES:Nearby Tournament,Sectional Game,Tournament
END:VEVENT
BEGIN:VEVENT
DTSTART;VALUE=DATE:20260327
DTEND;VALUE=DATE:20260330
DTSTAMP:20260423T034411
CREATED:20251103T152649Z
LAST-MODIFIED:20260109T190743Z
UID:8680-1774569600-1774828799@emeraldbridgeclub.net
SUMMARY:Heart of the Valley Sectional\, Corvallis
DESCRIPTION:
URL:https://emeraldbridgeclub.net/event/heart-of-the-valley-sectional-corvallis-2/
CATEGORIES:Nearby Tournament,Sectional Game,Tournament
END:VEVENT
BEGIN:VEVENT
DTSTART;VALUE=DATE:20260130
DTEND;VALUE=DATE:20260202
DTSTAMP:20260423T034411
CREATED:20251103T151536Z
LAST-MODIFIED:20260119T225046Z
UID:8675-1769731200-1769990399@emeraldbridgeclub.net
SUMMARY:Portland Winter Sectional at Wilsonville - New Location!
DESCRIPTION:
URL:https://emeraldbridgeclub.net/event/portland-winter-sectional-at-wilsonville-2/
CATEGORIES:Nearby Tournament,Sectional Game,Tournament
ATTACH;FMTTYPE=image/png:https://emeraldbridgeclub.net/wp-content/uploads/2023/11/Wilsonville-small.png
END:VEVENT
BEGIN:VEVENT
DTSTART;VALUE=DATE:20250912
DTEND;VALUE=DATE:20250915
DTSTAMP:20260423T034411
CREATED:20250612T155217Z
LAST-MODIFIED:20250612T155404Z
UID:8503-1757635200-1757894399@emeraldbridgeclub.net
SUMMARY:Portland Fall I/N Regional and Open Sectional
DESCRIPTION:
URL:https://emeraldbridgeclub.net/event/portland-fall-i-n-regional-and-open-sectional/
CATEGORIES:Nearby Tournament,Regional Game,Sectional Game,Tournament
ATTACH;FMTTYPE=image/png:https://emeraldbridgeclub.net/wp-content/uploads/2023/11/Wilsonville-small.png
END:VEVENT
BEGIN:VEVENT
DTSTART;VALUE=DATE:20250726
DTEND;VALUE=DATE:20250727
DTSTAMP:20260423T034411
CREATED:20250706T150028Z
LAST-MODIFIED:20250716T145409Z
UID:8545-1753488000-1753574399@emeraldbridgeclub.net
SUMMARY:Progressive Sectional Finals Games\, Silver Points
DESCRIPTION:
URL:https://emeraldbridgeclub.net/event/progressive-sectional-finals-games-silver-points/
CATEGORIES:Nearby Tournament,Sectional Game
END:VEVENT
BEGIN:VEVENT
DTSTART;VALUE=DATE:20250620
DTEND;VALUE=DATE:20250623
DTSTAMP:20260423T034411
CREATED:20250420T152134Z
LAST-MODIFIED:20250420T152134Z
UID:8328-1750377600-1750636799@emeraldbridgeclub.net
SUMMARY:Portland Summer Sectional
DESCRIPTION:
URL:https://emeraldbridgeclub.net/event/portland-summer-sectional/
CATEGORIES:Nearby Tournament,Sectional Game,Tournament
ATTACH;FMTTYPE=image/jpeg:https://emeraldbridgeclub.net/wp-content/uploads/2022/06/AdobeStock_389419338-scaled.jpg
END:VEVENT
BEGIN:VEVENT
DTSTART;VALUE=DATE:20250602
DTEND;VALUE=DATE:20250605
DTSTAMP:20260423T034411
CREATED:20250420T151653Z
LAST-MODIFIED:20250420T151851Z
UID:8323-1748822400-1749081599@emeraldbridgeclub.net
SUMMARY:Seaside Sectional
DESCRIPTION:
URL:https://emeraldbridgeclub.net/event/seaside-sectional/
CATEGORIES:Nearby Tournament,Sectional Game,Tournament
ATTACH;FMTTYPE=image/jpeg:https://emeraldbridgeclub.net/wp-content/uploads/2022/04/Seaside-aerial.jpeg
END:VEVENT
BEGIN:VEVENT
DTSTART;VALUE=DATE:20250530
DTEND;VALUE=DATE:20250602
DTSTAMP:20260423T034411
CREATED:20250110T190000Z
LAST-MODIFIED:20250420T155005Z
UID:8090-1748563200-1748822399@emeraldbridgeclub.net
SUMMARY:Eugene Sectional and I/N Regional
DESCRIPTION:
URL:https://emeraldbridgeclub.net/event/eugene-sectional-and-i-n-regional-3/
CATEGORIES:Nearby Tournament,Regional Game,Sectional Game,Tournament
ATTACH;FMTTYPE=image/jpeg:https://emeraldbridgeclub.net/wp-content/uploads/2022/04/Eugene-aerial.jpeg
END:VEVENT
BEGIN:VEVENT
DTSTART;VALUE=DATE:20250411
DTEND;VALUE=DATE:20250413
DTSTAMP:20260423T034411
CREATED:20241202T002829Z
LAST-MODIFIED:20250412T140852Z
UID:8048-1744329600-1744502399@emeraldbridgeclub.net
SUMMARY:Eugene 499er Sectional
DESCRIPTION:Tournament Results
URL:https://emeraldbridgeclub.net/event/eugene-499er-sectional/
CATEGORIES:Nearby Tournament,Sectional Game,Tournament
ATTACH;FMTTYPE=image/jpeg:https://emeraldbridgeclub.net/wp-content/uploads/2020/05/EBC_logo-scaled.jpeg
END:VEVENT
BEGIN:VEVENT
DTSTART;TZID=America/Los_Angeles:20250327T123000
DTEND;TZID=America/Los_Angeles:20250327T123000
DTSTAMP:20260423T034411
CREATED:20250318T235559Z
LAST-MODIFIED:20250318T235559Z
UID:8305-1743078600-1743078600@emeraldbridgeclub.net
SUMMARY:Royal STaC Game -- Silver Points
DESCRIPTION:
URL:https://emeraldbridgeclub.net/event/royal-stac-game-silver-points-2/
CATEGORIES:Sectional Game,Special Game
END:VEVENT
BEGIN:VEVENT
DTSTART;TZID=America/Los_Angeles:20250325T123000
DTEND;TZID=America/Los_Angeles:20250325T123000
DTSTAMP:20260423T034411
CREATED:20250318T235443Z
LAST-MODIFIED:20250318T235443Z
UID:8303-1742905800-1742905800@emeraldbridgeclub.net
SUMMARY:Royal STaC Game -- Silver Points
DESCRIPTION:
URL:https://emeraldbridgeclub.net/event/royal-stac-game-silver-points/
CATEGORIES:Sectional Game,Special Game
END:VEVENT
BEGIN:VEVENT
DTSTART;VALUE=DATE:20250307
DTEND;VALUE=DATE:20250310
DTSTAMP:20260423T034411
CREATED:20250131T175222Z
LAST-MODIFIED:20250131T175854Z
UID:8243-1741305600-1741564799@emeraldbridgeclub.net
SUMMARY:Heart of the Valley Sectional\, Corvallis
DESCRIPTION:
URL:https://emeraldbridgeclub.net/event/heart-of-the-valley-sectional/
CATEGORIES:Nearby Tournament,Sectional Game,Tournament
ATTACH;FMTTYPE=image/jpeg:https://emeraldbridgeclub.net/wp-content/uploads/2022/10/AdobeStock_503808066-scaled.jpeg
END:VEVENT
BEGIN:VEVENT
DTSTART;VALUE=DATE:20250131
DTEND;VALUE=DATE:20250203
DTSTAMP:20260423T034411
CREATED:20250122T182900Z
LAST-MODIFIED:20250122T182900Z
UID:8239-1738281600-1738540799@emeraldbridgeclub.net
SUMMARY:Portland Winter Sectional at Wilsonville
DESCRIPTION:
URL:https://emeraldbridgeclub.net/event/portland-winter-sectional-at-wilsonville/
CATEGORIES:Nearby Tournament,Sectional Game,Tournament
ATTACH;FMTTYPE=image/png:https://emeraldbridgeclub.net/wp-content/uploads/2023/11/Wilsonville-small.png
END:VEVENT
BEGIN:VEVENT
DTSTART;VALUE=DATE:20241219
DTEND;VALUE=DATE:20241220
DTSTAMP:20260423T034411
CREATED:20241104T184903Z
LAST-MODIFIED:20241104T184903Z
UID:8024-1734566400-1734652799@emeraldbridgeclub.net
SUMMARY:Royal STaC Game\, $12
DESCRIPTION:Gold\, silver\, red\, and black points
URL:https://emeraldbridgeclub.net/event/royal-stac-game-12-2/
CATEGORIES:Sectional Game,Special Game
END:VEVENT
BEGIN:VEVENT
DTSTART;VALUE=DATE:20241217
DTEND;VALUE=DATE:20241218
DTSTAMP:20260423T034411
CREATED:20241104T184806Z
LAST-MODIFIED:20241104T184806Z
UID:8025-1734393600-1734479999@emeraldbridgeclub.net
SUMMARY:Royal STaC Game\, $12
DESCRIPTION:Gold\, silver\, red\, and black points
URL:https://emeraldbridgeclub.net/event/royal-stac-game-12/
CATEGORIES:Sectional Game,Special Game
END:VEVENT
BEGIN:VEVENT
DTSTART;VALUE=DATE:20241102
DTEND;VALUE=DATE:20241104
DTSTAMP:20260423T034411
CREATED:20241025T190536Z
LAST-MODIFIED:20241025T191244Z
UID:8015-1730505600-1730678399@emeraldbridgeclub.net
SUMMARY:Heart of the Valley 299er Sectional
DESCRIPTION:Info
URL:https://emeraldbridgeclub.net/event/corvallis-sectional/
CATEGORIES:Nearby Tournament,Sectional Game,Tournament
END:VEVENT
BEGIN:VEVENT
DTSTART;VALUE=DATE:20240531
DTEND;VALUE=DATE:20240603
DTSTAMP:20260423T034411
CREATED:20240103T161249Z
LAST-MODIFIED:20240608T192452Z
UID:7300-1717113600-1717372799@emeraldbridgeclub.net
SUMMARY:Eugene Sectional and I/N Regional
DESCRIPTION:I/N Regional Results\nSectional Results
URL:https://emeraldbridgeclub.net/event/eugene-sectional-and-i-n-regional-2/
CATEGORIES:Nearby Tournament,Regional Game,Sectional Game,Tournament
ATTACH;FMTTYPE=image/png:https://emeraldbridgeclub.net/wp-content/uploads/2023/01/Eugene-view.png
END:VEVENT
BEGIN:VEVENT
DTSTART;VALUE=DATE:20240503
DTEND;VALUE=DATE:20240506
DTSTAMP:20260423T034411
CREATED:20240407T165710Z
LAST-MODIFIED:20240407T165913Z
UID:7581-1714694400-1714953599@emeraldbridgeclub.net
SUMMARY:Seaside Sectional and Golden Clam I/N Regional
DESCRIPTION:
URL:https://emeraldbridgeclub.net/event/seaside-sectional-and-golden-clam-i-n-regional-2/
CATEGORIES:Nearby Tournament,Regional Game,Sectional Game,Tournament
ATTACH;FMTTYPE=image/jpeg:https://emeraldbridgeclub.net/wp-content/uploads/2022/04/Seaside-aerial.jpeg
END:VEVENT
BEGIN:VEVENT
DTSTART;VALUE=DATE:20240217
DTEND;VALUE=DATE:20240220
DTSTAMP:20260423T034411
CREATED:20231105T201120Z
LAST-MODIFIED:20231112T170127Z
UID:7070-1708128000-1708387199@emeraldbridgeclub.net
SUMMARY:Kailua Kona Sectional
DESCRIPTION:
URL:https://emeraldbridgeclub.net/event/kailua-kona-sectional/
CATEGORIES:Sectional Game,Tournament
END:VEVENT
BEGIN:VEVENT
DTSTART;VALUE=DATE:20240202
DTEND;VALUE=DATE:20240205
DTSTAMP:20260423T034411
CREATED:20231105T195846Z
LAST-MODIFIED:20231119T182243Z
UID:7054-1706832000-1707091199@emeraldbridgeclub.net
SUMMARY:Wilsonville Sectional
DESCRIPTION:
URL:https://emeraldbridgeclub.net/event/wilsonville-sectional/
CATEGORIES:Nearby Tournament,Sectional Game,Tournament
ATTACH;FMTTYPE=image/png:https://emeraldbridgeclub.net/wp-content/uploads/2023/11/Wilsonville-small.png
END:VEVENT
BEGIN:VEVENT
DTSTART;VALUE=DATE:20240113
DTEND;VALUE=DATE:20240116
DTSTAMP:20260423T034411
CREATED:20231105T200809Z
LAST-MODIFIED:20231112T165909Z
UID:7066-1705104000-1705363199@emeraldbridgeclub.net
SUMMARY:Lihue (Kauai) Sectional
DESCRIPTION:
URL:https://emeraldbridgeclub.net/event/lihue-kauai-sectional/
CATEGORIES:Sectional Game,Tournament
END:VEVENT
BEGIN:VEVENT
DTSTART;VALUE=DATE:20231207
DTEND;VALUE=DATE:20231208
DTSTAMP:20260423T034411
CREATED:20231105T131703Z
LAST-MODIFIED:20231118T153553Z
UID:7043-1701907200-1701993599@emeraldbridgeclub.net
SUMMARY:Royal STaC Game\, $12
DESCRIPTION:Gold\, silver\, red\, and black points
URL:https://emeraldbridgeclub.net/event/stac-game-12-2/
CATEGORIES:Sectional Game,Special Game
END:VEVENT
BEGIN:VEVENT
DTSTART;VALUE=DATE:20231205
DTEND;VALUE=DATE:20231206
DTSTAMP:20260423T034411
CREATED:20231105T131444Z
LAST-MODIFIED:20231118T153702Z
UID:7041-1701734400-1701820799@emeraldbridgeclub.net
SUMMARY:Royal STaC Game\, $12
DESCRIPTION:Gold\, silver\, red\, and black points
URL:https://emeraldbridgeclub.net/event/stac-game-12/
CATEGORIES:Sectional Game,Special Game
END:VEVENT
BEGIN:VEVENT
DTSTART;VALUE=DATE:20231111
DTEND;VALUE=DATE:20231113
DTSTAMP:20260423T034411
CREATED:20231007T214714Z
LAST-MODIFIED:20231112T165750Z
UID:6978-1699660800-1699833599@emeraldbridgeclub.net
SUMMARY:Vancouver Winter Sectional
DESCRIPTION:
URL:https://emeraldbridgeclub.net/event/vancouver-winter-sectional/
CATEGORIES:Sectional Game,Tournament
ATTACH;FMTTYPE=image/png:https://emeraldbridgeclub.net/wp-content/uploads/2023/02/Vancouver.png
END:VEVENT
BEGIN:VEVENT
DTSTART;VALUE=DATE:20231014
DTEND;VALUE=DATE:20231016
DTSTAMP:20260423T034411
CREATED:20230902T185644Z
LAST-MODIFIED:20230902T185742Z
UID:6921-1697241600-1697414399@emeraldbridgeclub.net
SUMMARY:Vancouver NLM Sectional
DESCRIPTION:Info from ACBL
URL:https://emeraldbridgeclub.net/event/vancouver-nlm-sectional/
CATEGORIES:Sectional Game,Tournament
ATTACH;FMTTYPE=image/png:https://emeraldbridgeclub.net/wp-content/uploads/2023/02/Vancouver.png
END:VEVENT
BEGIN:VEVENT
DTSTART;VALUE=DATE:20230908
DTEND;VALUE=DATE:20230911
DTSTAMP:20260423T034411
CREATED:20230618T195048Z
LAST-MODIFIED:20230618T195048Z
UID:6781-1694131200-1694390399@emeraldbridgeclub.net
SUMMARY:Boise Sectional
DESCRIPTION:ACBL Info and Flyer
URL:https://emeraldbridgeclub.net/event/boise-sectional/
CATEGORIES:Sectional Game,Tournament
ATTACH;FMTTYPE=image/jpeg:https://emeraldbridgeclub.net/wp-content/uploads/2022/04/Boise-skyline.jpeg
END:VEVENT
BEGIN:VEVENT
DTSTART;VALUE=DATE:20230908
DTEND;VALUE=DATE:20230911
DTSTAMP:20260423T034411
CREATED:20230618T194511Z
LAST-MODIFIED:20230618T194621Z
UID:6779-1694131200-1694390399@emeraldbridgeclub.net
SUMMARY:Portland I/N Regional and Open Sectional
DESCRIPTION:ACBL Info and Flyer
URL:https://emeraldbridgeclub.net/event/portland-i-n-regional-and-open-sectional/
CATEGORIES:Regional Game,Sectional Game,Tournament
END:VEVENT
BEGIN:VEVENT
DTSTART;VALUE=DATE:20230908
DTEND;VALUE=DATE:20230910
DTSTAMP:20260423T034411
CREATED:20230618T195715Z
LAST-MODIFIED:20230619T150359Z
UID:6786-1694131200-1694303999@emeraldbridgeclub.net
SUMMARY:Honolulu Sectional
DESCRIPTION:ABCL Info
URL:https://emeraldbridgeclub.net/event/honolulu-sectional-2/
CATEGORIES:Sectional Game,Tournament
ATTACH;FMTTYPE=image/png:https://emeraldbridgeclub.net/wp-content/uploads/2023/06/AdobeStock_43268382_card_in_sand.png
END:VEVENT
BEGIN:VEVENT
DTSTART;VALUE=DATE:20230811
DTEND;VALUE=DATE:20230814
DTSTAMP:20260423T034411
CREATED:20230618T181139Z
LAST-MODIFIED:20230618T181139Z
UID:6777-1691712000-1691971199@emeraldbridgeclub.net
SUMMARY:Vancouver Sectional
DESCRIPTION:ACBL Info
URL:https://emeraldbridgeclub.net/event/vancouver-sectional-2/
CATEGORIES:Sectional Game,Tournament
ATTACH;FMTTYPE=image/png:https://emeraldbridgeclub.net/wp-content/uploads/2023/02/Vancouver.png
END:VEVENT
END:VCALENDAR