BEGIN:VCALENDAR
VERSION:2.0
PRODID:-//Emerald Bridge Club - ECPv6.15.20//NONSGML v1.0//EN
CALSCALE:GREGORIAN
METHOD:PUBLISH
X-WR-CALNAME:Emerald Bridge Club
X-ORIGINAL-URL:https://emeraldbridgeclub.net
X-WR-CALDESC:Events for Emerald Bridge Club
REFRESH-INTERVAL;VALUE=DURATION:PT1H
X-Robots-Tag:noindex
X-PUBLISHED-TTL:PT1H
BEGIN:VTIMEZONE
TZID:America/Los_Angeles
BEGIN:DAYLIGHT
TZOFFSETFROM:-0800
TZOFFSETTO:-0700
TZNAME:PDT
DTSTART:20210314T100000
END:DAYLIGHT
BEGIN:STANDARD
TZOFFSETFROM:-0700
TZOFFSETTO:-0800
TZNAME:PST
DTSTART:20211107T090000
END:STANDARD
BEGIN:DAYLIGHT
TZOFFSETFROM:-0800
TZOFFSETTO:-0700
TZNAME:PDT
DTSTART:20220313T100000
END:DAYLIGHT
BEGIN:STANDARD
TZOFFSETFROM:-0700
TZOFFSETTO:-0800
TZNAME:PST
DTSTART:20221106T090000
END:STANDARD
BEGIN:DAYLIGHT
TZOFFSETFROM:-0800
TZOFFSETTO:-0700
TZNAME:PDT
DTSTART:20230312T100000
END:DAYLIGHT
BEGIN:STANDARD
TZOFFSETFROM:-0700
TZOFFSETTO:-0800
TZNAME:PST
DTSTART:20231105T090000
END:STANDARD
BEGIN:DAYLIGHT
TZOFFSETFROM:-0800
TZOFFSETTO:-0700
TZNAME:PDT
DTSTART:20240310T100000
END:DAYLIGHT
BEGIN:STANDARD
TZOFFSETFROM:-0700
TZOFFSETTO:-0800
TZNAME:PST
DTSTART:20241103T090000
END:STANDARD
END:VTIMEZONE
BEGIN:VEVENT
DTSTART;VALUE=DATE:20230303
DTEND;VALUE=DATE:20230306
DTSTAMP:20260425T055856
CREATED:20230209T232431Z
LAST-MODIFIED:20230226T223608Z
UID:6349-1677801600-1678060799@emeraldbridgeclub.net
SUMMARY:Heart of the Valley Sectional\, Corvallis
DESCRIPTION:Flyer
URL:https://emeraldbridgeclub.net/event/heart-of-the-valley-sectional-corvallis/
CATEGORIES:Sectional Game,Tournament
ATTACH;FMTTYPE=image/png:https://emeraldbridgeclub.net/wp-content/uploads/2023/02/Corvallis-2-01.png
END:VEVENT
BEGIN:VEVENT
DTSTART;VALUE=DATE:20230210
DTEND;VALUE=DATE:20230213
DTSTAMP:20260425T055856
CREATED:20230202T165643Z
LAST-MODIFIED:20230205T200252Z
UID:6316-1675987200-1676246399@emeraldbridgeclub.net
SUMMARY:Sweetheart Sectional\, Boise
DESCRIPTION:Flyer
URL:https://emeraldbridgeclub.net/event/sweetheart-sectional-boise/
CATEGORIES:Sectional Game,Tournament
ATTACH;FMTTYPE=image/jpeg:https://emeraldbridgeclub.net/wp-content/uploads/2022/04/Boise-skyline.jpeg
END:VEVENT
BEGIN:VEVENT
DTSTART;VALUE=DATE:20230127
DTEND;VALUE=DATE:20230130
DTSTAMP:20260425T055856
CREATED:20221124T222708Z
LAST-MODIFIED:20221230T194536Z
UID:5689-1674777600-1675036799@emeraldbridgeclub.net
SUMMARY:Portland Winter Sectional
DESCRIPTION:Flyer
URL:https://emeraldbridgeclub.net/event/portland-winter-sectional/
CATEGORIES:Sectional Game,Tournament
END:VEVENT
BEGIN:VEVENT
DTSTART;VALUE=DATE:20221208
DTEND;VALUE=DATE:20221209
DTSTAMP:20260425T055856
CREATED:20221115T231542Z
LAST-MODIFIED:20221115T233600Z
UID:5622-1670457600-1670543999@emeraldbridgeclub.net
SUMMARY:D20 Royal STaC\, $12
DESCRIPTION:Points: 25% gold\, 25% red\, 25% silver and 25% black. \nScores
URL:https://emeraldbridgeclub.net/event/d20-royal-stac-2/
CATEGORIES:Sectional Game,Special Game,Tournament
END:VEVENT
BEGIN:VEVENT
DTSTART;VALUE=DATE:20221206
DTEND;VALUE=DATE:20221207
DTSTAMP:20260425T055856
CREATED:20221107T001722Z
LAST-MODIFIED:20221115T233445Z
UID:5570-1670284800-1670371199@emeraldbridgeclub.net
SUMMARY:D20 Royal STaC\, $12
DESCRIPTION:Points: 25% gold\, 25% red\, 25% silver and 25% black. \nScores
URL:https://emeraldbridgeclub.net/event/d20-royal-stac/
CATEGORIES:Sectional Game,Special Game,Tournament
END:VEVENT
BEGIN:VEVENT
DTSTART;VALUE=DATE:20221112
DTEND;VALUE=DATE:20221114
DTSTAMP:20260425T055856
CREATED:20220819T211127Z
LAST-MODIFIED:20221104T215922Z
UID:5186-1668211200-1668383999@emeraldbridgeclub.net
SUMMARY:Vancouver Fall Sectional
DESCRIPTION:
URL:https://emeraldbridgeclub.net/event/vancouver-fall-sectional/
CATEGORIES:Sectional Game,Tournament
END:VEVENT
BEGIN:VEVENT
DTSTART;VALUE=DATE:20221015
DTEND;VALUE=DATE:20221017
DTSTAMP:20260425T055856
CREATED:20220814T144758Z
LAST-MODIFIED:20220814T191321Z
UID:5158-1665792000-1665964799@emeraldbridgeclub.net
SUMMARY:Vancouver 0 – 750 Fall Sectional
DESCRIPTION:
URL:https://emeraldbridgeclub.net/event/vancouver-0-750-fall-sectional/
CATEGORIES:Sectional Game
END:VEVENT
BEGIN:VEVENT
DTSTART;VALUE=DATE:20220923
DTEND;VALUE=DATE:20220926
DTSTAMP:20260425T055856
CREATED:20220725T191022Z
LAST-MODIFIED:20220814T191138Z
UID:5121-1663891200-1664150399@emeraldbridgeclub.net
SUMMARY:Boise Fall Sectional
DESCRIPTION:
URL:https://emeraldbridgeclub.net/event/boise-fall-sectional/
CATEGORIES:Sectional Game
ATTACH;FMTTYPE=image/jpeg:https://emeraldbridgeclub.net/wp-content/uploads/2022/04/Boise-skyline.jpeg
END:VEVENT
BEGIN:VEVENT
DTSTART;VALUE=DATE:20220909
DTEND;VALUE=DATE:20220912
DTSTAMP:20260425T055856
CREATED:20220814T145921Z
LAST-MODIFIED:20220814T191009Z
UID:5162-1662681600-1662940799@emeraldbridgeclub.net
SUMMARY:Portland Fall Sectional
DESCRIPTION:
URL:https://emeraldbridgeclub.net/event/portland-fall-sectional/
CATEGORIES:Sectional Game
END:VEVENT
BEGIN:VEVENT
DTSTART;VALUE=DATE:20220812
DTEND;VALUE=DATE:20220815
DTSTAMP:20260425T055856
CREATED:20220725T190807Z
LAST-MODIFIED:20220725T190807Z
UID:5118-1660262400-1660521599@emeraldbridgeclub.net
SUMMARY:Vancouver Summer Sectional
DESCRIPTION:
URL:https://emeraldbridgeclub.net/event/vancouver-summer-sectional/
CATEGORIES:Sectional Game
END:VEVENT
BEGIN:VEVENT
DTSTART;VALUE=DATE:20220624
DTEND;VALUE=DATE:20220627
DTSTAMP:20260425T055856
CREATED:20220617T152045Z
LAST-MODIFIED:20220617T153232Z
UID:4999-1656028800-1656287999@emeraldbridgeclub.net
SUMMARY:Portland Unit 487 Summer Sectional
DESCRIPTION:Flyer
URL:https://emeraldbridgeclub.net/event/portland-unit-487-summer-sectional/
CATEGORIES:Sectional Game
ATTACH;FMTTYPE=image/jpeg:https://emeraldbridgeclub.net/wp-content/uploads/2022/06/AdobeStock_389419338-scaled.jpg
END:VEVENT
BEGIN:VEVENT
DTSTART;VALUE=DATE:20220603
DTEND;VALUE=DATE:20220606
DTSTAMP:20260425T055856
CREATED:20220402T185214Z
LAST-MODIFIED:20220607T143740Z
UID:4615-1654214400-1654473599@emeraldbridgeclub.net
SUMMARY:Eugene Sectional Results
DESCRIPTION:Results
URL:https://emeraldbridgeclub.net/event/eugene-sectional/
CATEGORIES:Sectional Game
ATTACH;FMTTYPE=image/jpeg:https://emeraldbridgeclub.net/wp-content/uploads/2022/04/Eugene-aerial.jpeg
END:VEVENT
BEGIN:VEVENT
DTSTART;VALUE=DATE:20220429
DTEND;VALUE=DATE:20220502
DTSTAMP:20260425T055856
CREATED:20220328T225554Z
LAST-MODIFIED:20220610T151320Z
UID:4565-1651190400-1651449599@emeraldbridgeclub.net
SUMMARY:Seaside Sectional and Golden Clam I/N Regional
DESCRIPTION:Sectional Results\nI/N Regional Results
URL:https://emeraldbridgeclub.net/event/seaside-sectional-and-golden-clam-i-n-regional/
CATEGORIES:Regional Game,Sectional Game
ATTACH;FMTTYPE=image/jpeg:https://emeraldbridgeclub.net/wp-content/uploads/2022/04/Seaside-aerial.jpeg
END:VEVENT
END:VCALENDAR