BEGIN:VCALENDAR
VERSION:2.0
PRODID:-//Emerald Bridge Club - ECPv6.15.20//NONSGML v1.0//EN
CALSCALE:GREGORIAN
METHOD:PUBLISH
X-WR-CALNAME:Emerald Bridge Club
X-ORIGINAL-URL:https://emeraldbridgeclub.net
X-WR-CALDESC:Events for Emerald Bridge Club
REFRESH-INTERVAL;VALUE=DURATION:PT1H
X-Robots-Tag:noindex
X-PUBLISHED-TTL:PT1H
BEGIN:VTIMEZONE
TZID:America/Los_Angeles
BEGIN:DAYLIGHT
TZOFFSETFROM:-0800
TZOFFSETTO:-0700
TZNAME:PDT
DTSTART:20210314T100000
END:DAYLIGHT
BEGIN:STANDARD
TZOFFSETFROM:-0700
TZOFFSETTO:-0800
TZNAME:PST
DTSTART:20211107T090000
END:STANDARD
BEGIN:DAYLIGHT
TZOFFSETFROM:-0800
TZOFFSETTO:-0700
TZNAME:PDT
DTSTART:20220313T100000
END:DAYLIGHT
BEGIN:STANDARD
TZOFFSETFROM:-0700
TZOFFSETTO:-0800
TZNAME:PST
DTSTART:20221106T090000
END:STANDARD
BEGIN:DAYLIGHT
TZOFFSETFROM:-0800
TZOFFSETTO:-0700
TZNAME:PDT
DTSTART:20230312T100000
END:DAYLIGHT
BEGIN:STANDARD
TZOFFSETFROM:-0700
TZOFFSETTO:-0800
TZNAME:PST
DTSTART:20231105T090000
END:STANDARD
END:VTIMEZONE
BEGIN:VEVENT
DTSTART;TZID=America/Los_Angeles:20220403T123000
DTEND;TZID=America/Los_Angeles:20220403T123000
DTSTAMP:20260425T033700
CREATED:20220307T164311Z
LAST-MODIFIED:20220307T164311Z
UID:4416-1648989000-1648989000@emeraldbridgeclub.net
SUMMARY:Swiss Teams Online
DESCRIPTION:
URL:https://emeraldbridgeclub.net/event/swiss-teams-online/
CATEGORIES:Swiss Team Game
END:VEVENT
END:VCALENDAR