BEGIN:VCALENDAR
VERSION:2.0
PRODID:-//Emerald Bridge Club - ECPv6.15.20//NONSGML v1.0//EN
CALSCALE:GREGORIAN
METHOD:PUBLISH
X-WR-CALNAME:Emerald Bridge Club
X-ORIGINAL-URL:https://emeraldbridgeclub.net
X-WR-CALDESC:Events for Emerald Bridge Club
REFRESH-INTERVAL;VALUE=DURATION:PT1H
X-Robots-Tag:noindex
X-PUBLISHED-TTL:PT1H
BEGIN:VTIMEZONE
TZID:America/Los_Angeles
BEGIN:DAYLIGHT
TZOFFSETFROM:-0800
TZOFFSETTO:-0700
TZNAME:PDT
DTSTART:20230312T100000
END:DAYLIGHT
BEGIN:STANDARD
TZOFFSETFROM:-0700
TZOFFSETTO:-0800
TZNAME:PST
DTSTART:20231105T090000
END:STANDARD
BEGIN:DAYLIGHT
TZOFFSETFROM:-0800
TZOFFSETTO:-0700
TZNAME:PDT
DTSTART:20240310T100000
END:DAYLIGHT
BEGIN:STANDARD
TZOFFSETFROM:-0700
TZOFFSETTO:-0800
TZNAME:PST
DTSTART:20241103T090000
END:STANDARD
BEGIN:DAYLIGHT
TZOFFSETFROM:-0800
TZOFFSETTO:-0700
TZNAME:PDT
DTSTART:20250309T100000
END:DAYLIGHT
BEGIN:STANDARD
TZOFFSETFROM:-0700
TZOFFSETTO:-0800
TZNAME:PST
DTSTART:20251102T090000
END:STANDARD
BEGIN:DAYLIGHT
TZOFFSETFROM:-0800
TZOFFSETTO:-0700
TZNAME:PDT
DTSTART:20260308T100000
END:DAYLIGHT
BEGIN:STANDARD
TZOFFSETFROM:-0700
TZOFFSETTO:-0800
TZNAME:PST
DTSTART:20261101T090000
END:STANDARD
BEGIN:DAYLIGHT
TZOFFSETFROM:-0800
TZOFFSETTO:-0700
TZNAME:PDT
DTSTART:20270314T100000
END:DAYLIGHT
BEGIN:STANDARD
TZOFFSETFROM:-0700
TZOFFSETTO:-0800
TZNAME:PST
DTSTART:20271107T090000
END:STANDARD
END:VTIMEZONE
BEGIN:VEVENT
DTSTART;TZID=America/Los_Angeles:20240106T093000
DTEND;TZID=America/Los_Angeles:20240106T093000
DTSTAMP:20260425T050956
CREATED:20231122T153716Z
LAST-MODIFIED:20231122T153716Z
UID:7124-1704533400-1704533400@emeraldbridgeclub.net
SUMMARY:Swiss Teams
DESCRIPTION:
URL:https://emeraldbridgeclub.net/event/swiss-teams-6/
CATEGORIES:Special Game,Swiss Team Game
END:VEVENT
BEGIN:VEVENT
DTSTART;TZID=America/Los_Angeles:20240203T093000
DTEND;TZID=America/Los_Angeles:20240203T093000
DTSTAMP:20260425T050956
CREATED:20231122T153801Z
LAST-MODIFIED:20231122T153801Z
UID:7123-1706952600-1706952600@emeraldbridgeclub.net
SUMMARY:Swiss Teams
DESCRIPTION:
URL:https://emeraldbridgeclub.net/event/swiss-teams-8/
CATEGORIES:Special Game,Swiss Team Game
END:VEVENT
BEGIN:VEVENT
DTSTART;TZID=America/Los_Angeles:20240302T093000
DTEND;TZID=America/Los_Angeles:20240302T093000
DTSTAMP:20260425T050956
CREATED:20231122T153839Z
LAST-MODIFIED:20240301T005725Z
UID:7122-1709371800-1709371800@emeraldbridgeclub.net
SUMMARY:Swiss Teams - canceled
DESCRIPTION:
URL:https://emeraldbridgeclub.net/event/swiss-teams-13/
CATEGORIES:Special Game,Swiss Team Game
END:VEVENT
BEGIN:VEVENT
DTSTART;TZID=America/Los_Angeles:20240406T093000
DTEND;TZID=America/Los_Angeles:20240406T093000
DTSTAMP:20260425T050956
CREATED:20240103T160446Z
LAST-MODIFIED:20240110T173909Z
UID:7296-1712395800-1712395800@emeraldbridgeclub.net
SUMMARY:Swiss Teams Membership Game
DESCRIPTION:
URL:https://emeraldbridgeclub.net/event/swiss-teams-14/
CATEGORIES:Special Game,Swiss Team Game
END:VEVENT
BEGIN:VEVENT
DTSTART;TZID=America/Los_Angeles:20240504T093000
DTEND;TZID=America/Los_Angeles:20240504T093000
DTSTAMP:20260425T050956
CREATED:20240103T161654Z
LAST-MODIFIED:20240103T161654Z
UID:7305-1714815000-1714815000@emeraldbridgeclub.net
SUMMARY:Swiss Teams
DESCRIPTION:
URL:https://emeraldbridgeclub.net/event/swiss-teams-15/
CATEGORIES:Special Game,Swiss Team Game
END:VEVENT
BEGIN:VEVENT
DTSTART;TZID=America/Los_Angeles:20240803T093000
DTEND;TZID=America/Los_Angeles:20240803T093000
DTSTAMP:20260425T050956
CREATED:20240104T162536Z
LAST-MODIFIED:20240104T162536Z
UID:7323-1722677400-1722677400@emeraldbridgeclub.net
SUMMARY:Swiss Teams
DESCRIPTION:
URL:https://emeraldbridgeclub.net/event/swiss-teams-17/
CATEGORIES:Special Game,Swiss Team Game
END:VEVENT
BEGIN:VEVENT
DTSTART;TZID=America/Los_Angeles:20240907T093000
DTEND;TZID=America/Los_Angeles:20240907T093000
DTSTAMP:20260425T050956
CREATED:20240110T000323Z
LAST-MODIFIED:20240110T000323Z
UID:7356-1725701400-1725701400@emeraldbridgeclub.net
SUMMARY:Swiss Teams
DESCRIPTION:
URL:https://emeraldbridgeclub.net/event/swiss-teams-18/
CATEGORIES:Special Game,Swiss Team Game
END:VEVENT
BEGIN:VEVENT
DTSTART;TZID=America/Los_Angeles:20241005T093000
DTEND;TZID=America/Los_Angeles:20241005T093000
DTSTAMP:20260425T050956
CREATED:20240110T170543Z
LAST-MODIFIED:20240928T180235Z
UID:7369-1728120600-1728120600@emeraldbridgeclub.net
SUMMARY:Swiss Team -- Cancelled
DESCRIPTION:
URL:https://emeraldbridgeclub.net/event/swiss-team-club-appreciation-game-2/
CATEGORIES:Swiss Team Game
END:VEVENT
BEGIN:VEVENT
DTSTART;TZID=America/Los_Angeles:20241102T093000
DTEND;TZID=America/Los_Angeles:20241102T093000
DTSTAMP:20260425T050956
CREATED:20240110T000426Z
LAST-MODIFIED:20240110T000426Z
UID:7352-1730539800-1730539800@emeraldbridgeclub.net
SUMMARY:Swiss Teams
DESCRIPTION:
URL:https://emeraldbridgeclub.net/event/swiss-teams-20/
CATEGORIES:Special Game,Swiss Team Game
END:VEVENT
BEGIN:VEVENT
DTSTART;TZID=America/Los_Angeles:20241214T093000
DTEND;TZID=America/Los_Angeles:20241214T093000
DTSTAMP:20260425T050956
CREATED:20240110T000501Z
LAST-MODIFIED:20241128T214439Z
UID:7351-1734168600-1734168600@emeraldbridgeclub.net
SUMMARY:Swiss Teams
DESCRIPTION:
URL:https://emeraldbridgeclub.net/event/swiss-teams-21/
CATEGORIES:Special Game,Swiss Team Game
END:VEVENT
BEGIN:VEVENT
DTSTART;TZID=America/Los_Angeles:20250201T093000
DTEND;TZID=America/Los_Angeles:20250201T093000
DTSTAMP:20260425T050956
CREATED:20250115T001307Z
LAST-MODIFIED:20250115T001307Z
UID:8117-1738402200-1738402200@emeraldbridgeclub.net
SUMMARY:Swiss Teams
DESCRIPTION:
URL:https://emeraldbridgeclub.net/event/swiss-teams-16/
CATEGORIES:Special Game,Swiss Team Game
END:VEVENT
BEGIN:VEVENT
DTSTART;TZID=America/Los_Angeles:20250301T093000
DTEND;TZID=America/Los_Angeles:20250301T093000
DTSTAMP:20260425T050956
CREATED:20250115T001344Z
LAST-MODIFIED:20250115T001344Z
UID:8116-1740821400-1740821400@emeraldbridgeclub.net
SUMMARY:Swiss Teams
DESCRIPTION:
URL:https://emeraldbridgeclub.net/event/swiss-teams-19/
CATEGORIES:Special Game,Swiss Team Game
END:VEVENT
BEGIN:VEVENT
DTSTART;TZID=America/Los_Angeles:20250405T093000
DTEND;TZID=America/Los_Angeles:20250405T093000
DTSTAMP:20260425T050956
CREATED:20250115T001423Z
LAST-MODIFIED:20250402T012340Z
UID:8115-1743845400-1743845400@emeraldbridgeclub.net
SUMMARY:Swiss Teams - Canceled This Week
DESCRIPTION:
URL:https://emeraldbridgeclub.net/event/swiss-teams-22/
CATEGORIES:Special Game,Swiss Team Game
END:VEVENT
BEGIN:VEVENT
DTSTART;TZID=America/Los_Angeles:20250503T093000
DTEND;TZID=America/Los_Angeles:20250503T093000
DTSTAMP:20260425T050956
CREATED:20250115T001507Z
LAST-MODIFIED:20250115T001507Z
UID:8114-1746264600-1746264600@emeraldbridgeclub.net
SUMMARY:Swiss Teams
DESCRIPTION:
URL:https://emeraldbridgeclub.net/event/swiss-teams-23/
CATEGORIES:Special Game,Swiss Team Game
END:VEVENT
BEGIN:VEVENT
DTSTART;TZID=America/Los_Angeles:20250607T093000
DTEND;TZID=America/Los_Angeles:20250607T093000
DTSTAMP:20260425T050956
CREATED:20250115T001551Z
LAST-MODIFIED:20250115T001551Z
UID:8113-1749288600-1749288600@emeraldbridgeclub.net
SUMMARY:Swiss Teams
DESCRIPTION:
URL:https://emeraldbridgeclub.net/event/swiss-teams-24/
CATEGORIES:Special Game,Swiss Team Game
END:VEVENT
BEGIN:VEVENT
DTSTART;TZID=America/Los_Angeles:20250705T093000
DTEND;TZID=America/Los_Angeles:20250705T093000
DTSTAMP:20260425T050956
CREATED:20250115T001626Z
LAST-MODIFIED:20250115T001626Z
UID:8112-1751707800-1751707800@emeraldbridgeclub.net
SUMMARY:Swiss Teams
DESCRIPTION:
URL:https://emeraldbridgeclub.net/event/swiss-teams-25/
CATEGORIES:Special Game,Swiss Team Game
END:VEVENT
BEGIN:VEVENT
DTSTART;TZID=America/Los_Angeles:20250802T093000
DTEND;TZID=America/Los_Angeles:20250802T093000
DTSTAMP:20260425T050956
CREATED:20250116T185958Z
LAST-MODIFIED:20250116T185958Z
UID:8182-1754127000-1754127000@emeraldbridgeclub.net
SUMMARY:Swiss Teams
DESCRIPTION:
URL:https://emeraldbridgeclub.net/event/swiss-teams-28/
CATEGORIES:Special Game,Swiss Team Game
END:VEVENT
BEGIN:VEVENT
DTSTART;TZID=America/Los_Angeles:20250906T093000
DTEND;TZID=America/Los_Angeles:20250906T093000
DTSTAMP:20260425T050956
CREATED:20250116T190110Z
LAST-MODIFIED:20250116T190110Z
UID:8181-1757151000-1757151000@emeraldbridgeclub.net
SUMMARY:Swiss Teams
DESCRIPTION:
URL:https://emeraldbridgeclub.net/event/swiss-teams-29/
CATEGORIES:Special Game,Swiss Team Game
END:VEVENT
BEGIN:VEVENT
DTSTART;TZID=America/Los_Angeles:20251011T093000
DTEND;TZID=America/Los_Angeles:20251011T093000
DTSTAMP:20260425T050956
CREATED:20250116T190148Z
LAST-MODIFIED:20250916T045825Z
UID:8180-1760175000-1760175000@emeraldbridgeclub.net
SUMMARY:Swiss Teams
DESCRIPTION:
URL:https://emeraldbridgeclub.net/event/swiss-teams-30/
CATEGORIES:Special Game,Swiss Team Game
END:VEVENT
BEGIN:VEVENT
DTSTART;TZID=America/Los_Angeles:20251101T093000
DTEND;TZID=America/Los_Angeles:20251101T093000
DTSTAMP:20260425T050956
CREATED:20250116T190219Z
LAST-MODIFIED:20250116T190219Z
UID:8179-1761989400-1761989400@emeraldbridgeclub.net
SUMMARY:Swiss Teams
DESCRIPTION:
URL:https://emeraldbridgeclub.net/event/swiss-teams-31/
CATEGORIES:Special Game,Swiss Team Game
END:VEVENT
BEGIN:VEVENT
DTSTART;TZID=America/Los_Angeles:20251213T093000
DTEND;TZID=America/Los_Angeles:20251213T093000
DTSTAMP:20260425T050956
CREATED:20250116T190306Z
LAST-MODIFIED:20251105T193939Z
UID:8178-1765618200-1765618200@emeraldbridgeclub.net
SUMMARY:Swiss Teams
DESCRIPTION:
URL:https://emeraldbridgeclub.net/event/swiss-teams-32/
CATEGORIES:Special Game,Swiss Team Game
END:VEVENT
BEGIN:VEVENT
DTSTART;TZID=America/Los_Angeles:20260103T093000
DTEND;TZID=America/Los_Angeles:20260103T093000
DTSTAMP:20260425T050956
CREATED:20260101T155754Z
LAST-MODIFIED:20260101T155754Z
UID:8778-1767432600-1767432600@emeraldbridgeclub.net
SUMMARY:Swiss Teams
DESCRIPTION:
URL:https://emeraldbridgeclub.net/event/swiss-teams-26/
CATEGORIES:Special Game,Swiss Team Game
END:VEVENT
BEGIN:VEVENT
DTSTART;TZID=America/Los_Angeles:20260207T093000
DTEND;TZID=America/Los_Angeles:20260207T093000
DTSTAMP:20260425T050956
CREATED:20260101T155841Z
LAST-MODIFIED:20260101T155841Z
UID:8777-1770456600-1770456600@emeraldbridgeclub.net
SUMMARY:Swiss Teams
DESCRIPTION:
URL:https://emeraldbridgeclub.net/event/swiss-teams-33/
CATEGORIES:Special Game,Swiss Team Game
END:VEVENT
BEGIN:VEVENT
DTSTART;TZID=America/Los_Angeles:20260307T093000
DTEND;TZID=America/Los_Angeles:20260307T093000
DTSTAMP:20260425T050956
CREATED:20260101T155919Z
LAST-MODIFIED:20260101T155919Z
UID:8776-1772875800-1772875800@emeraldbridgeclub.net
SUMMARY:Swiss Teams
DESCRIPTION:
URL:https://emeraldbridgeclub.net/event/swiss-teams-34/
CATEGORIES:Special Game,Swiss Team Game
END:VEVENT
BEGIN:VEVENT
DTSTART;TZID=America/Los_Angeles:20260404T093000
DTEND;TZID=America/Los_Angeles:20260404T093000
DTSTAMP:20260425T050956
CREATED:20260112T183534Z
LAST-MODIFIED:20260112T183534Z
UID:8811-1775295000-1775295000@emeraldbridgeclub.net
SUMMARY:Swiss Teams
DESCRIPTION:
URL:https://emeraldbridgeclub.net/event/swiss-teams-35/
CATEGORIES:Special Game,Swiss Team Game
END:VEVENT
BEGIN:VEVENT
DTSTART;TZID=America/Los_Angeles:20260502T093000
DTEND;TZID=America/Los_Angeles:20260502T093000
DTSTAMP:20260425T050956
CREATED:20260112T183604Z
LAST-MODIFIED:20260112T183604Z
UID:8810-1777714200-1777714200@emeraldbridgeclub.net
SUMMARY:Swiss Teams
DESCRIPTION:
URL:https://emeraldbridgeclub.net/event/swiss-teams-36/
CATEGORIES:Special Game,Swiss Team Game
END:VEVENT
BEGIN:VEVENT
DTSTART;TZID=America/Los_Angeles:20260606T093000
DTEND;TZID=America/Los_Angeles:20260606T093000
DTSTAMP:20260425T050956
CREATED:20260112T183642Z
LAST-MODIFIED:20260112T183642Z
UID:8809-1780738200-1780738200@emeraldbridgeclub.net
SUMMARY:Swiss Teams
DESCRIPTION:
URL:https://emeraldbridgeclub.net/event/swiss-teams-37/
CATEGORIES:Special Game,Swiss Team Game
END:VEVENT
BEGIN:VEVENT
DTSTART;TZID=America/Los_Angeles:20260704T093000
DTEND;TZID=America/Los_Angeles:20260704T093000
DTSTAMP:20260425T050956
CREATED:20260113T001340Z
LAST-MODIFIED:20260113T001340Z
UID:8855-1783157400-1783157400@emeraldbridgeclub.net
SUMMARY:Swiss Teams
DESCRIPTION:
URL:https://emeraldbridgeclub.net/event/swiss-teams-38/
CATEGORIES:Special Game,Swiss Team Game
END:VEVENT
BEGIN:VEVENT
DTSTART;TZID=America/Los_Angeles:20260801T093000
DTEND;TZID=America/Los_Angeles:20260801T093000
DTSTAMP:20260425T050956
CREATED:20260113T001412Z
LAST-MODIFIED:20260113T001412Z
UID:8854-1785576600-1785576600@emeraldbridgeclub.net
SUMMARY:Swiss Teams
DESCRIPTION:
URL:https://emeraldbridgeclub.net/event/swiss-teams-39/
CATEGORIES:Special Game,Swiss Team Game
END:VEVENT
BEGIN:VEVENT
DTSTART;TZID=America/Los_Angeles:20260905T093000
DTEND;TZID=America/Los_Angeles:20260905T093000
DTSTAMP:20260425T050956
CREATED:20260113T001504Z
LAST-MODIFIED:20260113T001504Z
UID:8853-1788600600-1788600600@emeraldbridgeclub.net
SUMMARY:Swiss Teams
DESCRIPTION:
URL:https://emeraldbridgeclub.net/event/swiss-teams-40/
CATEGORIES:Special Game,Swiss Team Game
END:VEVENT
END:VCALENDAR