BEGIN:VCALENDAR
VERSION:2.0
PRODID:-//Emerald Bridge Club - ECPv6.15.20//NONSGML v1.0//EN
CALSCALE:GREGORIAN
METHOD:PUBLISH
X-WR-CALNAME:Emerald Bridge Club
X-ORIGINAL-URL:https://emeraldbridgeclub.net
X-WR-CALDESC:Events for Emerald Bridge Club
REFRESH-INTERVAL;VALUE=DURATION:PT1H
X-Robots-Tag:noindex
X-PUBLISHED-TTL:PT1H
BEGIN:VTIMEZONE
TZID:America/Los_Angeles
BEGIN:DAYLIGHT
TZOFFSETFROM:-0800
TZOFFSETTO:-0700
TZNAME:PDT
DTSTART:20220313T100000
END:DAYLIGHT
BEGIN:STANDARD
TZOFFSETFROM:-0700
TZOFFSETTO:-0800
TZNAME:PST
DTSTART:20221106T090000
END:STANDARD
BEGIN:DAYLIGHT
TZOFFSETFROM:-0800
TZOFFSETTO:-0700
TZNAME:PDT
DTSTART:20230312T100000
END:DAYLIGHT
BEGIN:STANDARD
TZOFFSETFROM:-0700
TZOFFSETTO:-0800
TZNAME:PST
DTSTART:20231105T090000
END:STANDARD
BEGIN:DAYLIGHT
TZOFFSETFROM:-0800
TZOFFSETTO:-0700
TZNAME:PDT
DTSTART:20240310T100000
END:DAYLIGHT
BEGIN:STANDARD
TZOFFSETFROM:-0700
TZOFFSETTO:-0800
TZNAME:PST
DTSTART:20241103T090000
END:STANDARD
END:VTIMEZONE
BEGIN:VEVENT
DTSTART;TZID=America/Los_Angeles:20231216T093000
DTEND;TZID=America/Los_Angeles:20231216T123000
DTSTAMP:20260423T032749
CREATED:20231031T185919Z
LAST-MODIFIED:20231122T153958Z
UID:7027-1702719000-1702729800@emeraldbridgeclub.net
SUMMARY:Unit Game
DESCRIPTION:Come early for a healthy breakfast!
URL:https://emeraldbridgeclub.net/event/unit-game-16/
CATEGORIES:Special Game,Unit Game
END:VEVENT
END:VCALENDAR